BEGIN:VCALENDAR
VERSION:2.0
PRODID:-//VfB Langenhagen e.V. - ECPv6.15.13.1//NONSGML v1.0//EN
CALSCALE:GREGORIAN
METHOD:PUBLISH
X-WR-CALNAME:VfB Langenhagen e.V.
X-ORIGINAL-URL:https://vfb-langenhagen.de
X-WR-CALDESC:Veranstaltungen für VfB Langenhagen e.V.
REFRESH-INTERVAL;VALUE=DURATION:PT1H
X-Robots-Tag:noindex
X-PUBLISHED-TTL:PT1H
BEGIN:VTIMEZONE
TZID:Europe/Berlin
BEGIN:DAYLIGHT
TZOFFSETFROM:+0100
TZOFFSETTO:+0200
TZNAME:CEST
DTSTART:20250330T010000
END:DAYLIGHT
BEGIN:STANDARD
TZOFFSETFROM:+0200
TZOFFSETTO:+0100
TZNAME:CET
DTSTART:20251026T010000
END:STANDARD
BEGIN:DAYLIGHT
TZOFFSETFROM:+0100
TZOFFSETTO:+0200
TZNAME:CEST
DTSTART:20260329T010000
END:DAYLIGHT
BEGIN:STANDARD
TZOFFSETFROM:+0200
TZOFFSETTO:+0100
TZNAME:CET
DTSTART:20261025T010000
END:STANDARD
BEGIN:DAYLIGHT
TZOFFSETFROM:+0100
TZOFFSETTO:+0200
TZNAME:CEST
DTSTART:20270328T010000
END:DAYLIGHT
BEGIN:STANDARD
TZOFFSETFROM:+0200
TZOFFSETTO:+0100
TZNAME:CET
DTSTART:20271031T010000
END:STANDARD
END:VTIMEZONE
BEGIN:VEVENT
DTSTART;TZID=Europe/Berlin:20260417T191500
DTEND;TZID=Europe/Berlin:20260417T214500
DTSTAMP:20260421T102445
CREATED:20260227T215338Z
LAST-MODIFIED:20260227T215338Z
UID:10442-1776453300-1776462300@vfb-langenhagen.de
SUMMARY:Bezirksfreitag "Einfach mal Judo machen II mit Martin von den Benken"
DESCRIPTION:Ausschreibung
URL:https://vfb-langenhagen.de/termin/bezirksfreitag-einfach-mal-judo-machen-ii-mit-martin-von-den-benken/
LOCATION:Friedrich-Ebert-Schule\, Ada-Lessing-Platz 9\, Langenhagen\, 30851\, Deutschland
CATEGORIES:Judo
END:VEVENT
END:VCALENDAR